BEGIN:VCALENDAR
VERSION:2.0
PRODID:-//School of Education FACE - ECPv6.9.1//NONSGML v1.0//EN
CALSCALE:GREGORIAN
METHOD:PUBLISH
X-WR-CALNAME:School of Education FACE
X-ORIGINAL-URL:https://www.face-freiburg.de
X-WR-CALDESC:Veranstaltungen für School of Education FACE
REFRESH-INTERVAL;VALUE=DURATION:PT1H
X-Robots-Tag:noindex
X-PUBLISHED-TTL:PT1H
BEGIN:VTIMEZONE
TZID:Europe/Berlin
BEGIN:DAYLIGHT
TZOFFSETFROM:+0100
TZOFFSETTO:+0200
TZNAME:CEST
DTSTART:20260329T010000
END:DAYLIGHT
BEGIN:STANDARD
TZOFFSETFROM:+0200
TZOFFSETTO:+0100
TZNAME:CET
DTSTART:20261025T010000
END:STANDARD
END:VTIMEZONE
BEGIN:VEVENT
DTSTART;TZID=Europe/Berlin:20260427T123000
DTEND;TZID=Europe/Berlin:20260427T133000
DTSTAMP:20260421T062036
CREATED:20250211T084234Z
LAST-MODIFIED:20260325T085012Z
UID:47983-1777293000-1777296600@www.face-freiburg.de
SUMMARY:Beratungsstunde zum Schulpraxissemester
DESCRIPTION:Sie planen\, im Herbst das Schulpraxissemester zu absolvieren und haben Fragen zum Bewerbungsverfahren\, zum Ablauf\, zu den Ansprechpartner*innen? Dann kommen Sie gerne zur allgemeinen Info-Stunde am 27. April von 12.30 bis 13.30 Uhr.
URL:https://www.face-freiburg.de/veranstaltungen/beratungsstunde-sps-26/
LOCATION:Uni Freiburg\, KG I\, HS 1034
CATEGORIES:Studium,Universität,Informationsveranstaltungen der Uni
ORGANIZER;CN="Abteilung Gymnasiales Lehramt%2C Universit%C3%A4t Freiburg":MAILTO:lehramtsberatung@zv.uni-freiburg.de
END:VEVENT
END:VCALENDAR