BEGIN:VCALENDAR
VERSION:2.0
PRODID:-//School of Education FACE - ECPv6.9.1//NONSGML v1.0//EN
CALSCALE:GREGORIAN
METHOD:PUBLISH
X-WR-CALNAME:School of Education FACE
X-ORIGINAL-URL:https://www.face-freiburg.de
X-WR-CALDESC:Veranstaltungen für School of Education FACE
REFRESH-INTERVAL;VALUE=DURATION:PT1H
X-Robots-Tag:noindex
X-PUBLISHED-TTL:PT1H
BEGIN:VTIMEZONE
TZID:Europe/Berlin
BEGIN:DAYLIGHT
TZOFFSETFROM:+0100
TZOFFSETTO:+0200
TZNAME:CEST
DTSTART:20260329T010000
END:DAYLIGHT
BEGIN:STANDARD
TZOFFSETFROM:+0200
TZOFFSETTO:+0100
TZNAME:CET
DTSTART:20261025T010000
END:STANDARD
END:VTIMEZONE
BEGIN:VEVENT
DTSTART;TZID=Europe/Berlin:20260428T183000
DTEND;TZID=Europe/Berlin:20260428T200000
DTSTAMP:20260421T075337
CREATED:20260420T122332Z
LAST-MODIFIED:20260420T124921Z
UID:51957-1777401000-1777406400@www.face-freiburg.de
SUMMARY:Didaktisches Seminar des Mathematischen Instituts der Universität Freiburg - Textaufgaben neu sehen: Blickbewegungen und generative KI als zwei aktuelle Perspektiven
DESCRIPTION:Vortrag: Textaufgaben neu sehen: Blickbewegungen und generative KI als zwei aktuelle Perspektiven\nReferent: Prof. Dr. Anselm Strohmaier (PH Freiburg)\nTextaufgaben sind ein klassisches Element des Mathematikunterrichts in der Grundschule und Sekundarstufe. Dennoch zeigen aktuelle Perspektiven\, dass es hier noch – und gerade wieder – viel zu lernen gibt. In diesem Vortrag stelle ich zwei solche Perspektiven auf Textaufgaben aus meiner Forschung vor. Zunächst zeige ich\, wie sich mithilfe von Blickbewegungen Lösungsprozesse von Textaufgaben analysieren lassen\, insbesondere das Zusammenspiel von Lesen und Rechnen. Anhand zweier Forschungssynthesen diskutiere ich\, welches Potenzial die jüngsten Entwicklungen generativer KI für das Lernen mit Textaufgaben bieten. Abschließend gehe ich darauf ein\, welche Konsequenzen und offenen Fragen sich daraus für zukünftige Forschung und die Schulpraxis ergeben. \nZu den Vorträgen mit anschließender Diskussion laden ein:\nDr. Katharina Böcherer-Linder (Leiterin der Abteilung für die Didaktik der Mathematik)\,\nProf. Dr. Heike Mildenberger (Geschäftsführerende Direktorin der Abteilung) \nDie Vortragsreihe wird unterstützt durch das ZSL Freiburg. \nZielgruppe:\nLehramtsstudierende\, Referendar*innen\, Lehrkräfte\, Lehrerausbilder*innen und alle an Lehre und Forschung Interessierten \nSchulart:\nalle \nAlle Termine:\n28.04.: Prof. Dr. Anselm Strohmaier: Textaufgaben neu sehen: Blickbewegungen und generative KI als zwei aktuelle Perspektiven \n12.05.: StD Jürgen Kury: Digitale Escape Rooms im Mathematikunterricht \n16.06.: Michael Haverkamp: Den Einstieg in die Binomialverteilung verstehensorientiert gestalten
URL:https://www.face-freiburg.de/veranstaltungen/didaktisches-seminar-des-mathematischen-instituts-der-universitaet-freiburg-2/
LOCATION:Hörsaal 2\, Albertstr. 23 b\, 79104 Freiburg
CATEGORIES:Lehre,Praxis,Fort- & Weiterbildung,Universität
END:VEVENT
END:VCALENDAR