BEGIN:VCALENDAR
VERSION:2.0
PRODID:-//School of Education FACE - ECPv6.9.1//NONSGML v1.0//EN
CALSCALE:GREGORIAN
METHOD:PUBLISH
X-ORIGINAL-URL:https://www.face-freiburg.de
X-WR-CALDESC:Veranstaltungen für School of Education FACE
REFRESH-INTERVAL;VALUE=DURATION:PT1H
X-Robots-Tag:noindex
X-PUBLISHED-TTL:PT1H
BEGIN:VTIMEZONE
TZID:Europe/Berlin
BEGIN:DAYLIGHT
TZOFFSETFROM:+0100
TZOFFSETTO:+0200
TZNAME:CEST
DTSTART:20260329T010000
END:DAYLIGHT
BEGIN:STANDARD
TZOFFSETFROM:+0200
TZOFFSETTO:+0100
TZNAME:CET
DTSTART:20261025T010000
END:STANDARD
END:VTIMEZONE
BEGIN:VEVENT
DTSTART;TZID=Europe/Berlin:20260429T181500
DTEND;TZID=Europe/Berlin:20260429T203000
DTSTAMP:20260421T062213
CREATED:20250924T103414Z
LAST-MODIFIED:20260320T102815Z
UID:49189-1777486500-1777494600@www.face-freiburg.de
SUMMARY:Das Referendariat – (k)eine Horrorzeit?! Ein Film- und Gesprächsabend
DESCRIPTION:An diesem Abend geht es um die zweite Phase der Lehrkräfteausbildung nach dem Studium\, um die sich seit jeher Mythen ranken und die einigen Studierenden Sorgen bereitet\, bevor sie angefangen hat. Nach einer realitätsnahen filmischen Auseinandersetzung mit dem Thema „Referendariat“ in Form einer Dokumentation (Snacks und Freigetränke inklusive) möchten wir dazu mit Ihnen ins Gespräch kommen\, mit den Mythen aufräumen und Sorgen nehmen. Moderiert wird der Abend vom Lehramtsberater Christian von Contzen\, der selbst Gymnasiallehrer ist und „aus erster Hand“ berichten kann. \nBitte um Anmeldung bis zum 27.04.2026 mit dem Betreff „Anmeldung Ref-Abend“ an christian.voncontzen@zv.uni-freiburg.de.
URL:https://www.face-freiburg.de/veranstaltungen/filmabend-26/
LOCATION:Uni Freiburg\, KG I\, HS 1221
CATEGORIES:FACE,Studium,Universität,Informationsveranstaltungen der Uni
ORGANIZER;CN="Abteilung Gymnasiales Lehramt%2C Universit%C3%A4t Freiburg":MAILTO:lehramtsberatung@zv.uni-freiburg.de
END:VEVENT
END:VCALENDAR