BEGIN:VCALENDAR
VERSION:2.0
PRODID:-//School of Education FACE - ECPv6.9.1//NONSGML v1.0//EN
CALSCALE:GREGORIAN
METHOD:PUBLISH
X-ORIGINAL-URL:https://www.face-freiburg.de
X-WR-CALDESC:Veranstaltungen für School of Education FACE
REFRESH-INTERVAL;VALUE=DURATION:PT1H
X-Robots-Tag:noindex
X-PUBLISHED-TTL:PT1H
BEGIN:VTIMEZONE
TZID:Europe/Berlin
BEGIN:DAYLIGHT
TZOFFSETFROM:+0100
TZOFFSETTO:+0200
TZNAME:CEST
DTSTART:20260329T010000
END:DAYLIGHT
BEGIN:STANDARD
TZOFFSETFROM:+0200
TZOFFSETTO:+0100
TZNAME:CET
DTSTART:20261025T010000
END:STANDARD
END:VTIMEZONE
BEGIN:VEVENT
DTSTART;TZID=Europe/Berlin:20260506T181500
DTEND;TZID=Europe/Berlin:20260506T190000
DTSTAMP:20260421T075235
CREATED:20230209T094130Z
LAST-MODIFIED:20260320T100356Z
UID:40340-1778091300-1778094000@www.face-freiburg.de
SUMMARY:Infoveranstaltung: Der Übergang zum Master of Education (digital)
DESCRIPTION:Diese Infoveranstaltung – einmal digital\, einmal in Präsenz mit dem gleichen Inhalt! – richtet sich an Studierende im polyvalenten Zwei-Hauptfächer-Bachelor an der Universität Freiburg\, die planen\, hier auch ihr Master of Education-Studium aufzunehmen. \n\n\n\nIn dieser Veranstaltung informieren wir Sie über verschiedene Aspekte des Übergangs zum Master of Education\, wie die Abschlussplanung Ihres Bachelorstudiums\, das Bewerbungsverfahren und seine Besonderheiten (Zeitpunkt\, Zulassungsbeschränkungen und -voraussetzungen\, erforderliche Sprachkenntnisse etc.). Außerdem erhalten Sie einen Ausblick\, was Sie im Master of Education erwartet. \n\n\n\nFür die digitale Veranstaltung am 06.05. klicken Sie bitte hier und treten dem Zoom-Meeting bei. \n\n\n\nMeeting-ID: 619 2276 7842 ; Kenncode: BA_MED_26 Die Präsenz-Veranstaltung findet am 07.05.2026 statt.
URL:https://www.face-freiburg.de/veranstaltungen/infoveranstaltung-uebergang-2026/
LOCATION:Digital
CATEGORIES:Studium,Universität,Informationsveranstaltungen der Uni
ORGANIZER;CN="Abteilung Gymnasiales Lehramt%2C Universit%C3%A4t Freiburg":MAILTO:lehramtsberatung@zv.uni-freiburg.de
END:VEVENT
END:VCALENDAR