BEGIN:VCALENDAR
VERSION:2.0
PRODID:-//School of Education FACE - ECPv6.9.1//NONSGML v1.0//EN
CALSCALE:GREGORIAN
METHOD:PUBLISH
X-ORIGINAL-URL:https://www.face-freiburg.de
X-WR-CALDESC:Veranstaltungen für School of Education FACE
REFRESH-INTERVAL;VALUE=DURATION:PT1H
X-Robots-Tag:noindex
X-PUBLISHED-TTL:PT1H
BEGIN:VTIMEZONE
TZID:Europe/Berlin
BEGIN:DAYLIGHT
TZOFFSETFROM:+0100
TZOFFSETTO:+0200
TZNAME:CEST
DTSTART:20260329T010000
END:DAYLIGHT
BEGIN:STANDARD
TZOFFSETFROM:+0200
TZOFFSETTO:+0100
TZNAME:CET
DTSTART:20261025T010000
END:STANDARD
END:VTIMEZONE
BEGIN:VEVENT
DTSTART;TZID=Europe/Berlin:20260507T130000
DTEND;TZID=Europe/Berlin:20260507T134500
DTSTAMP:20260421T080459
CREATED:20260320T100413Z
LAST-MODIFIED:20260320T100734Z
UID:51842-1778158800-1778161500@www.face-freiburg.de
SUMMARY:Infoveranstaltung: Der Übergang zum Master of Education (Präsenz)
DESCRIPTION:Diese Infoveranstaltung – einmal digital\, einmal in Präsenz mit dem gleichen Inhalt! – richtet sich an Studierende im polyvalenten Zwei-Hauptfächer-Bachelor an der Universität Freiburg\, die planen\, hier auch ihr Master of Education-Studium aufzunehmen. \n\n\n\nIn dieser Veranstaltung informieren wir Sie über verschiedene Aspekte des Übergangs zum Master of Education\, wie die Abschlussplanung Ihres Bachelorstudiums\, das Bewerbungsverfahren und seine Besonderheiten (Zeitpunkt\, Zulassungsbeschränkungen und -voraussetzungen\, erforderliche Sprachkenntnisse etc.). Außerdem erhalten Sie einen Ausblick\, was Sie im Master of Education erwartet. \nDie gleiche Veranstaltung findet digital am 06.05.2026 statt.
URL:https://www.face-freiburg.de/veranstaltungen/uebergang26-1/
LOCATION:Uni Freiburg\, KG III\, HS 3042\, Platz der Universität 3\, Freiburg\, 79098\, Deutschland
CATEGORIES:Studium,Universität,Informationsveranstaltungen der Uni
ORGANIZER;CN="Abteilung Gymnasiales Lehramt%2C Universit%C3%A4t Freiburg":MAILTO:lehramtsberatung@zv.uni-freiburg.de
END:VEVENT
BEGIN:VEVENT
DTSTART;TZID=Europe/Berlin:20260507T150000
DTEND;TZID=Europe/Berlin:20260507T180000
DTSTAMP:20260421T080459
CREATED:20260325T112231Z
LAST-MODIFIED:20260415T130817Z
UID:50520-1778166000-1778176800@www.face-freiburg.de
SUMMARY:Gelingendes Feedback und Beratung im ISP / OSP / Schulpraktikum - Teil 1
DESCRIPTION:Das Begleiten von Studierenden im Rahmen des Integrierten Semesterpraktikums (ISP) stellt eine wichtige und gleichzeitig herausfordernde Aufgabe von Ausbildungslehrkräften dar. Studierende dürfen in ihrer Praxisphase Fehler machen. Gleichzeitig liegt es in der Natur der Sache\, dass in den Unterrichtsbesprechungen die Lernfelder von Studierenden im Fokus stehen. Wie man Rückmeldungen konstruktiv umsetzt\, erfahren die Teilnehmenden in der Fortbildung. \nBild: Colourbox \nDie Fortbildung\, deren Ziel es ist\, die Feedback- und Beratungskomptenzen der Ausbildungslehrkräfte in Praxispahsen (Orientierungspraktikum\, Integriertes Semesterpraktikum\, Praxissemester) zu stärken\, ist mit zwei halben Tagen angesetzt. Am ersten Tag werden Erfahrungen der Teilnehmenden ausgetauscht und Theorien zum Feedback behandelt. Letztere werden in der Praxishase bis zum zweiten Termin in der alltäglichen Arbeit im ISP ausprobiert. Beim zweiten Termin werden die Erfahrungen mit den neuen Ansätzen ausgetauscht und weiter ausgebaut. \nInhalte\n\nFeedback- und Fehlerkultur\nFormen von Feedback\nFeedbackmethoden in der Lehrkräfteausbildung\nDas Beratungsgespräch /\nDie Methode des Harvard Konzepts\nBeratungsgespräche erproben\n\nZiele\nDie Teilnehmenden \n\nkönnen die vorgestellten Feedbackformen und -methoden anwenden.\nkönnen Personen und Situation im Rahmen des ISP professionell(er) einschätzen und entsprechend Rückmeldung geben.\nkönnen ein Beratungsgespräch planen und durchführen.\n\nReferenten\nDr. Heiko Oberfell ist Akad. Mitarbeiter im Zentrum für Schulpraktische Studien an der PH Freiburg und für die Organisation und Durchführung des ISP zuständig. Lehrkräftefortbildungen\, schulische Qualitätsentwicklung und Lernunterstützung waren und sind seine inhaltlichen Schwerpunktthemen (Schulleitungstätigkeit\, Fremdevaluation\, Prozessbegleitung Deutscher Auslandsschulen) \n  \nDr. Patrick Blumschein ist Erziehungswissenschaftler an der Pädagogischen Hochschule Freiburg. Seine Arbeitsschwerpunkte liegen in der Lehr-Lernforschung und der Gestaltung von Lernumgebungen. Er ist Dozent in der Hochschuldidaktik des Landes und als Fortbildner in der Lehrkräftebildung und freien Wirtschaft tätig. \nVeranstaltungsart\nPräsenz-Lehrkräfte-Fortbildung \nAdressat*innen:\nAusbildungslehrkräfte im Integrierten Semesterpraktikum (ISP) der Primar\, Sek I und SBBZ Schulen;\nAusbildungslehrkräfte im Orientierungspraktikum (OSP) an den Gymnasien\,\nAusbilder*innen am Seminar für Ausbildung und Fortbildung der Lehrkräfte Freiburg Gymnasium Hochschullehrende\nDozierende der PH Freiburg in der Begleitung von Schulpraxis \nSchulart: \nSchulen der Primarstufe\, Sekundarstufe I + II sowie SBBZ \nTermine\nDo\, 07.05.2026\,\nDo\, 18.06.2026\njeweils 15 – 18 Uhr \nTeilnahmebeitrag\nkostenfrei \nBescheinigung\n1 ECTS (inkl. Selbststudienzeit) \nKontakt:\nOrganisatorisch: lehrerfortbildung(at)ph-freiburg.de  Tel.: 0761-682-644 oder-544\nInhaltlich: heiko.oberfell(at)ph-freiburg.de \nAnmeldung:\nHier anmelden
URL:https://www.face-freiburg.de/veranstaltungen/gelingendes-feedback-teil-1/
LOCATION:Pädagogische Hochschule Freiburg
CATEGORIES:FACE,Praxis,Fort- & Weiterbildung
END:VEVENT
END:VCALENDAR