BEGIN:VCALENDAR
VERSION:2.0
PRODID:-//School of Education FACE - ECPv6.9.1//NONSGML v1.0//EN
CALSCALE:GREGORIAN
METHOD:PUBLISH
X-ORIGINAL-URL:https://www.face-freiburg.de
X-WR-CALDESC:Veranstaltungen für School of Education FACE
REFRESH-INTERVAL;VALUE=DURATION:PT1H
X-Robots-Tag:noindex
X-PUBLISHED-TTL:PT1H
BEGIN:VTIMEZONE
TZID:Europe/Berlin
BEGIN:DAYLIGHT
TZOFFSETFROM:+0100
TZOFFSETTO:+0200
TZNAME:CEST
DTSTART:20260329T010000
END:DAYLIGHT
BEGIN:STANDARD
TZOFFSETFROM:+0200
TZOFFSETTO:+0100
TZNAME:CET
DTSTART:20261025T010000
END:STANDARD
END:VTIMEZONE
BEGIN:VEVENT
DTSTART;TZID=Europe/Berlin:20260512T160000
DTEND;TZID=Europe/Berlin:20260512T180000
DTSTAMP:20260421T080632
CREATED:20251021T150526Z
LAST-MODIFIED:20251022T101540Z
UID:49498-1778601600-1778608800@www.face-freiburg.de
SUMMARY:Virtuelle Ringvorlesung Geographie 2026: Bildungsstandards im Fach Geographie für die Allgemeine Hochschulreife - Perspektive „Mensch-Umwelt“
DESCRIPTION:Perspektive „Mensch-Umwelt“\n– Fachwissenschaftliche Perspektive: Antje Schlottmann (Universität Frankfurt)\n– Fachdidaktische Perspektive: Rainer Mehren (Universität Münster)\n– Schulpraktische Perspektive: Julia Klumparendt (Universität Bonn) \n\nIm Rahmen der roadmap-Initiative 2030wird auch im Sommersemester 2026 die Virtuelle Ringvorlesung Geographie fortgeführt – diesmal zum Schwerpunkt „Bildungsstandards“ \nSeit rund 20 Jahren begleiten uns die Bildungsstandards im Fach Geographie für den mittleren Schulabschluss in der Lehre an Hochschulen und Schulen. Sie haben sich zu einer zentralen Referenz für die Entwicklung von Lehr- und Bildungsplänen\, die Planung von Unterricht sowie die Gestaltung von Lehr- und Lernmaterialien entwickelt. Der Beitrag des Faches Geographie zur Allgemeinen Bildung\, die Basiskonzepte und Kompetenzbereiche bilden dabei bis heute die Ankerpunkte für das Nachdenken über guten Geographieunterricht. \n2024 sind nun die Bildungsstandards im Fach Geographie für die Allgemeine Hochschulreife erschienen. Ziel war es\, die Regelstandards der Sekundarstufe I für die Sekundarstufe II weiterzuentwickeln und zugleich aktuelle Debatten aus Fachwissenschaft und Fachdidaktik in die Konzeption einfließen zu lassen. Entstanden ist ein Dokument\, das die Bildungsstandards für den mittleren Schulabschluss fortschreibt sowie neue Schwerpunkte setzt. \nDie Ringvorlesung nimmt die Neuerscheinung zum Anlass\, konzeptuelle Innovationen sowie Herausforderungen bei der Übertragung in die Praxis zu diskutieren. In den drei Veranstaltungen der Reihe werden jeweils Perspektiven aus Fachwissenschaft\, Fachdidaktik und Schulpraxis in Dialog gebracht. Aufgrund ihrer Praxisorientierung wird die Ringvorlesung ausdrücklich zur Anerkennung und Nutzung als Fortbildungsveranstaltung empfohlen. \nWir laden alle in der geographischen Bildung Tätigen an Schulen\, Studienseminaren und Hochschulen sehr herzlich zur Teilnahme ein. \nZielgruppe:\nStudierende\, Dozierende und Lehrkräfte im Bereich der geographischen Bildung \nSchulart:\nalle Schularten der Sekundarstufen I und II \nAnmeldung:\nEs ist keine Anmeldung notwendig. Die Veranstaltung findet über Zoom unter folgendem Link statt:\nhttps://uni-bonn.zoom.us/j/68292455901?pwd=NkhNTXZvM3hsV2JUenA0bTkrbEhXQT09#success \nalle Termine:\nDienstag\, 12. Mai 2026\, 16:00-18:00 Uhr c.t.\nPerspektive „Mensch-Umwelt“\n– Fachwissenschaftliche Perspektive: Antje Schlottmann (Universität Frankfurt)\n– Fachdidaktische Perspektive: Rainer Mehren (Universität Münster)\n– Schulpraktische Perspektive: Julia Klumparendt (Universität Bonn) \nDienstag\, 09.06.2026\, 16:00-18:00 Uhr c.t.\nBasiskonzept „Macht“\n– Fachwissenschaftliche Perspektive: Iris Dzudzek (Universität Münster)\n– Fachdidaktische Perspektive: Georg Gudat (Universität Jena)\n– Schulpraktische Perspektive: N.N. (tbd.) \nDienstag\, 07.07.2026\, 16:00-18:00 Uhr c.t.\nKompetenzbereich „Handlung“\n– Fachwissenschaftliche Perspektive: Tilo Felgenhauer (Pädagogische Hochschule Oberösterreich)\n– Fachdidaktische Perspektive: Anne-Kathrin Lindau (Universität Halle-Wittenberg)\n– Schulpraktische Perspektive: N.N. (tbd.) \nWebseite der Veranstaltung
URL:https://www.face-freiburg.de/veranstaltungen/virtuelle-ringvorlesung-geographie-2026-bildungsstandards-perspektive-mensch-umwelt/
LOCATION:Online
CATEGORIES:Praxis,Fort- & Weiterbildung
END:VEVENT
BEGIN:VEVENT
DTSTART;TZID=Europe/Berlin:20260512T181500
DTEND;TZID=Europe/Berlin:20260512T191500
DTSTAMP:20260421T080632
CREATED:20230209T094713Z
LAST-MODIFIED:20260320T101046Z
UID:40342-1778609700-1778613300@www.face-freiburg.de
SUMMARY:Infoveranstaltung: Studium eines Erweiterungsfaches im Lehramt
DESCRIPTION:In dieser Infoveranstaltung erhalten Sie Informationen zum Studium eines Erweiterungsfaches\, insbesondere zu Bewerbung\, Ausbildung mit drei Fächern im Referendariat\, Einstellungschancen und zu den Auswirkungen auf den späteren Berufsalltag.   \nBitte schauen Sie auch auf unsere Seite zum M.Ed. – Erweiterungsfach. Dort finden Sie über die Veranstaltung hinaus Detailinformationen zu den einzelnen Fächern.\nHinweis: Das Studium eines Erweiterungsfaches kann im Bachelor begonnen werden. Zwar heißt dieser Studiengang „Master of Education Erweiterungsfach“\, jedoch können Sie sich bereits einschreiben\, sobald Sie in einem regulären 2-HF-Bachelorstudiengang an der Universität immatrikuliert sind.
URL:https://www.face-freiburg.de/veranstaltungen/infoveranstaltung-ewm-2026/
LOCATION:Hörsaal 1016\, KG I
CATEGORIES:Studium,Universität,Informationsveranstaltungen der Uni
ORGANIZER;CN="Abteilung Gymnasiales Lehramt%2C Universit%C3%A4t Freiburg":MAILTO:lehramtsberatung@zv.uni-freiburg.de
END:VEVENT
BEGIN:VEVENT
DTSTART;TZID=Europe/Berlin:20260512T183000
DTEND;TZID=Europe/Berlin:20260512T200000
DTSTAMP:20260421T080632
CREATED:20260420T122044Z
LAST-MODIFIED:20260420T125026Z
UID:52153-1778610600-1778616000@www.face-freiburg.de
SUMMARY:Didaktisches Seminar des Mathematischen Instituts der Universität Freiburg - Digitale Escape Rooms im Mathematikunterricht
DESCRIPTION:Vortrag: Digitale Escape Rooms im Mathematikunterricht\nReferent: StD Jürgen Kury (GHSE Emmendingen)\nIm Rahmen des Seminars „Medieneinsatz im Mathematikunterricht“ an der Universität Freiburg wurde der Frage nachgegangen\, unter welchen Bedingungen Gamification didaktisch sinnvoll in mathematische Lehr-Lern-Kontexte integriert werden kann. Aus dieser Auseinandersetzung heraus entstand die Konzeption eigener digitaler Escape Rooms\, die in der schulischen Praxis mit Schülerinnen und Schülern erprobt wurden. \nDer Vortrag bietet zunächst eine knappe wissenschaftliche Einordnung von Gamification als didaktischem Ansatz im Mathematikunterricht. Im Anschluss erhalten die Teilnehmenden die Gelegenheit\, die im Seminar entwickelten Escape Rooms selbst zu erproben. Dabei stehen die beteiligten Studierenden sowohl für Fragen zur technischen Realisierung als auch für Erläuterungen zu den zugrunde liegenden didaktischen Zielsetzungen zur Verfügung. Abschließend berichten Schülerinnen und Schüler der Gewerblichen und Hauswirtschaftlich-Sozialpflegerischen Schulen Emmendingen über ihre Erfahrungen mit gamifizierten Lernarrangements im Mathematikunterricht\, insbesondere mit dem Format des digitalen Escape Rooms. \nZu den Vorträgen mit anschließender Diskussion laden ein:\nDr. Katharina Böcherer-Linder (Leiterin der Abteilung für die Didaktik der Mathematik)\,\nProf. Dr. Heike Mildenberger (Geschäftsführerende Direktorin der Abteilung) \nDie Vortragsreihe wird unterstützt durch das ZSL Freiburg. \nZielgruppe:\nLehramtsstudierende\, Referendar*innen\, Lehrkräfte\, Lehrerausbilder*innen und alle an Lehre und Forschung Interessierten \nSchulart:\nalle \nAlle Termine:\n28.04.: Prof. Dr. Anselm Strohmaier: Textaufgaben neu sehen: Blickbewegungen und generative KI als zwei aktuelle Perspektiven \n12.05.: StD Jürgen Kury: Digitale Escape Rooms im Mathematikunterricht \n16.06.: Michael Haverkamp: Den Einstieg in die Binomialverteilung verstehensorientiert gestalten
URL:https://www.face-freiburg.de/veranstaltungen/didaktisches-seminar-des-mathematischen-instituts-der-universitaet-freiburg-digitale-escape-rooms-im-mathematikunterricht/
LOCATION:Albert-Ludwigs-Universität Freiburg  Albertstr. 23 b\, 79104 Freiburg; Hörsaal 2
CATEGORIES:FACE,Praxis,Fort- & Weiterbildung
END:VEVENT
END:VCALENDAR