BEGIN:VCALENDAR
VERSION:2.0
PRODID:-//School of Education FACE - ECPv6.9.1//NONSGML v1.0//EN
CALSCALE:GREGORIAN
METHOD:PUBLISH
X-WR-CALNAME:School of Education FACE
X-ORIGINAL-URL:https://www.face-freiburg.de
X-WR-CALDESC:Veranstaltungen für School of Education FACE
REFRESH-INTERVAL;VALUE=DURATION:PT1H
X-Robots-Tag:noindex
X-PUBLISHED-TTL:PT1H
BEGIN:VTIMEZONE
TZID:Europe/Berlin
BEGIN:DAYLIGHT
TZOFFSETFROM:+0100
TZOFFSETTO:+0200
TZNAME:CEST
DTSTART:20260329T010000
END:DAYLIGHT
BEGIN:STANDARD
TZOFFSETFROM:+0200
TZOFFSETTO:+0100
TZNAME:CET
DTSTART:20261025T010000
END:STANDARD
END:VTIMEZONE
BEGIN:VEVENT
DTSTART;TZID=Europe/Berlin:20260615T181500
DTEND;TZID=Europe/Berlin:20260615T194500
DTSTAMP:20260421T093725
CREATED:20230207T082154Z
LAST-MODIFIED:20260320T101455Z
UID:40321-1781547300-1781552700@www.face-freiburg.de
SUMMARY:Infoveranstaltung: Auslandsaufenthalte im Lehramtsstudium
DESCRIPTION:In der Veranstaltung erhalten Sie Informationen zu Organisationen und Programmen\, die Auslandsaufenthalte\, insbesondere Schulpraktika und andere Unterrichtserfahrungen\, während Ihres Lehramtsstudiums ermöglichen.  \nDie eingeladenen Referent*innen der Organisationen\, z.B. des PAD\, werden berichten und Ihre Fragen beantworten; Erfahrungen von Studierenden runden das Programm ab\, das nicht nur für zukünftige Fremdsprachenlehrer*innen interessant ist. \nHinweis: Das studienbezogene ERASMUS-Programm wird kein Thema sein.
URL:https://www.face-freiburg.de/veranstaltungen/infoveranstaltung-auslandsaufenthalt-2026/
LOCATION:Albert-Ludwigs-Universität Freiburg\, KG I\, HS 1228
CATEGORIES:Studium,Universität,Informationsveranstaltungen der Uni
ORGANIZER;CN="Abteilung Gymnasiales Lehramt%2C Universit%C3%A4t Freiburg":MAILTO:lehramtsberatung@zv.uni-freiburg.de
END:VEVENT
END:VCALENDAR